BEGIN:VCALENDAR
VERSION:2.0
PRODID:-//NCWQ Inc - ECPv6.15.20//NONSGML v1.0//EN
CALSCALE:GREGORIAN
METHOD:PUBLISH
X-WR-CALNAME:NCWQ Inc
X-ORIGINAL-URL:https://ncwq.org.au
X-WR-CALDESC:Events for NCWQ Inc
REFRESH-INTERVAL;VALUE=DURATION:PT1H
X-Robots-Tag:noindex
X-PUBLISHED-TTL:PT1H
BEGIN:VTIMEZONE
TZID:Australia/Brisbane
BEGIN:STANDARD
TZOFFSETFROM:+1000
TZOFFSETTO:+1000
TZNAME:AEST
DTSTART:20220101T000000
END:STANDARD
END:VTIMEZONE
BEGIN:VEVENT
DTSTART;TZID=Australia/Brisbane:20230308T173000
DTEND;TZID=Australia/Brisbane:20230308T200000
DTSTAMP:20260425T122900
CREATED:20230205T100133Z
LAST-MODIFIED:20230205T102235Z
UID:16354-1678296600-1678305600@ncwq.org.au
SUMMARY:International Women's Day - Celebrate with Women's Network Australia
DESCRIPTION:NCWQ Members and Affiliates are invited to join Women’s Network Australia for an International Women’s Day celebration in support of Women’s Legal Service Queensland. \nThe evening includes an insightful panel of guests – Kate Davies\, CEO of Netball Queensland\, Kelli Martin\, Managing Partner of KLM Solicitors along with disability advocate\, model and health care professional\, Sara Shams. \nTickets are $145pp and include a cocktail arrival\, drinks and canapes – and a touch of Bollywood! \nDress code: Colourful
URL:https://ncwq.org.au/event/international-womens-day-celebrate-with-womens-network-australia/
LOCATION:The Lussh\, 5 Hubert Street\, Woolloongabba\, Brisbane\, Queensland\, 4102\, Australia
CATEGORIES:Affiliate Partner
ATTACH;FMTTYPE=image/png:https://ncwq.org.au/wp-content/uploads/Humanitix-Image.png
ORGANIZER;CN="Women's Network Australia":MAILTO:admin@womensnetwork.com.au
END:VEVENT
END:VCALENDAR