BEGIN:VCALENDAR
VERSION:2.0
PRODID:-//NCWQ Inc - ECPv6.15.20//NONSGML v1.0//EN
CALSCALE:GREGORIAN
METHOD:PUBLISH
X-WR-CALNAME:NCWQ Inc
X-ORIGINAL-URL:https://ncwq.org.au
X-WR-CALDESC:Events for NCWQ Inc
REFRESH-INTERVAL;VALUE=DURATION:PT1H
X-Robots-Tag:noindex
X-PUBLISHED-TTL:PT1H
BEGIN:VTIMEZONE
TZID:Australia/Brisbane
BEGIN:STANDARD
TZOFFSETFROM:+1000
TZOFFSETTO:+1000
TZNAME:AEST
DTSTART:20210101T000000
END:STANDARD
END:VTIMEZONE
BEGIN:VEVENT
DTSTART;TZID=Australia/Brisbane:20220721T183000
DTEND;TZID=Australia/Brisbane:20220721T203000
DTSTAMP:20260426T023259
CREATED:20220629T074649Z
LAST-MODIFIED:20220701T081643Z
UID:15654-1658428200-1658435400@ncwq.org.au
SUMMARY:Brisbane Women’s Club Professional Series #3 – Lady Mayoress Nina Schrinner discussing “Women’s Impact on the Charity Sector”
DESCRIPTION:NCWQ would like to share an open invitation from our Affiliate member\, Brisbane Women’s Club  to attend their Professional Series #3 – Lady Mayoress Nina Schrinner discussing “Women’s Impact on the Charity Sector” at The Brisbane Club 21 July 2022. \n  \nAbout the Event\nDear NCWQ members\, friends and supporters\, \nThe Brisbane Women’s Club is thrilled that Lady Mayoress Nina Schrinner is speaking at our next Meet and Mingle – Professional Series #3 event and that she will speak on the topic ‘Women and their Impact on the Charity Sector‘. \n  \nWhen / Where\nOur event is being held on Thursday 21 July\, 6.30pm at The Brisbane Club. \nTickets are $25 for non-members to attend and include canapes/nibbles. \n  \nThere is a cash/card bar for purchasing your own drinks.  Enjoy networking with a room of passionate and like-minded people\, lucky door prize and hear from our fabulous key note speaker.  We would be thrilled to have anyone from the NCWQ network attend (including their own guests). \nTickets must be purchased online to attend and ticket sales close Monday 18 July at 12pm\, unless sold out earlier. \n\nLeah Gabriel (nee Stangle)\nChair/Director\nBrisbane Women’s Club\n\n  \nTickets / Book\nPlease book here. \n  \nGuest Speaker\nGuest Speaker: Lady Mayoress Nina Schrinner\nNina Schrinner is the Lady Mayoress of Brisbane and Chair of the Lord Mayor’s Charitable Trust. \nNina is a mother\, a lawyer\, and former special advisor to the Attorney General. She was born in Queensland and has spent most of her life living in Brisbane’s eastern suburbs. \nNina has a real passion for people and absolutely loves the opportunity to provide encouragement and support for the fantastic work being done by charities across Brisbane. Like her husband Adrian\, she believes that the sign of a strong\, healthy city is a city with a big heart.\nAs the Chair of the Lord Mayor’s Charitable Trust\, Nina is devoted to ensuring the Trust not only continues supporting grassroots charities that are having such a big impact in our community\, but also to enhancing Brisbane’s Reputation as a friendly and compassionate city that will host the 2032 Olympic and Paralympic Games. \nIn her role as Chair of the Lord Mayor’s Charitable Trust\, Nina has the opportunity to make a positive impact on a number of local Brisbane charities and to chat to some of the women making a real difference in the charity sector. Did you know that as at 30 June 2021 the Brisbane Local Government Area had an estimated resident population of approximately 1\,272\,461 persons; and roughly 50% are women or identify as women; and that approximately 69.5% of those persons are aged 15-64? The 2016 Census reports that approximately 20% of people over 15 undertook voluntary work with an organisation or group. These volunteers are at the hearts and souls of the charities that Nina and the Lord Mayor’s Charitable Trust support and are crucial to supporting Brisbane’s most vulnerable residents. \nBrisbane Women’s Club is thrilled to have the Lady Mayoress speak to us about the impact women are having on the charity sector\, particularly in relation to supporting local women of Brisbane. \n 
URL:https://ncwq.org.au/event/brisbane-womens-club-professional-series-3-lady-mayoress-nina-schrinner-discussing-womens-impact-on-the-charity-sector/
LOCATION:The Brisbane Club\, 241 Adelaide St\, Brisbane\, QLD\, 4000
CATEGORIES:Affiliate Partner
ATTACH;FMTTYPE=image/jpeg:https://ncwq.org.au/wp-content/uploads/bwc-event-21-07-22.jpg
END:VEVENT
END:VCALENDAR