BEGIN:VCALENDAR
VERSION:2.0
PRODID:-//NCWQ Inc - ECPv6.15.20//NONSGML v1.0//EN
CALSCALE:GREGORIAN
METHOD:PUBLISH
X-ORIGINAL-URL:https://ncwq.org.au
X-WR-CALDESC:Events for NCWQ Inc
REFRESH-INTERVAL;VALUE=DURATION:PT1H
X-Robots-Tag:noindex
X-PUBLISHED-TTL:PT1H
BEGIN:VTIMEZONE
TZID:Australia/Brisbane
BEGIN:STANDARD
TZOFFSETFROM:+1000
TZOFFSETTO:+1000
TZNAME:AEST
DTSTART:20210101T000000
END:STANDARD
END:VTIMEZONE
BEGIN:VEVENT
DTSTART;TZID=Australia/Brisbane:20220908T080000
DTEND;TZID=Australia/Brisbane:20220908T180000
DTSTAMP:20260425T231820
CREATED:20220830T221147Z
LAST-MODIFIED:20220831T090149Z
UID:15787-1662624000-1662660000@ncwq.org.au
SUMMARY:Women's Health Week - M-Power Event - 8 Sept
DESCRIPTION:The National Council of Women of Queensland Inc would like to invite our members\, friends and supporters to a Women’s Health Week special event presented by Women’s Network Australia with The Woman’s Voice and Performance Studios. The event will be held 8am – 6pm on Thursday 8 September 2022. \n  \nAbout The Event\nInvest in yourself. Reflect and reset your personal health and self- care. Learn how to fight stress\, burnout and the physical impacts of overwork at this full-day immersive event aimed at women business owners and leaders. to a meet and greet evening. We’d love for you to come along\, meet some of the current committee members and mingle with other new members of our lovely community. \n\n\nBreakfast\, lunch and farewell cocktail function included\nFull-day immersive experience\nWorkshops\, keynote and toolkit for better health management for your body\, mind and soul\nOptional wellness treatment sessions including acupuncture\, massage and reiki\nHealth care take-home bag with all you need to continue your wellness journey.\n\n\n  \nDetails\nDate & Time: Thursday 8 September\, 8am to 6pm \nVenue: Performance Studios\, 3994 Pacific Highway\, Loganholme \nRSVP:  Before 1 September \nCost: All-inclusive price of $399 +gst (or $299 +gst for WNA Members) \n  \nRSVP\nRSVP via Humantix\n  \n \n  \n 
URL:https://ncwq.org.au/event/womens-health-week-m-power-8-sept/
LOCATION:Performance Studios\, 3994 Pacific Highway\, Loganholme\, Qld\, Australia
CATEGORIES:Affiliate Partner
ATTACH;FMTTYPE=image/jpeg:https://ncwq.org.au/wp-content/uploads/m-power-8-sept.jpg
END:VEVENT
END:VCALENDAR