BEGIN:VCALENDAR
VERSION:2.0
PRODID:-//NCWQ Inc - ECPv6.15.20//NONSGML v1.0//EN
CALSCALE:GREGORIAN
METHOD:PUBLISH
X-ORIGINAL-URL:https://ncwq.org.au
X-WR-CALDESC:Events for NCWQ Inc
REFRESH-INTERVAL;VALUE=DURATION:PT1H
X-Robots-Tag:noindex
X-PUBLISHED-TTL:PT1H
BEGIN:VTIMEZONE
TZID:Australia/Brisbane
BEGIN:STANDARD
TZOFFSETFROM:+1000
TZOFFSETTO:+1000
TZNAME:AEST
DTSTART:20220101T000000
END:STANDARD
END:VTIMEZONE
BEGIN:VEVENT
DTSTART;TZID=Australia/Brisbane:20230421T120000
DTEND;TZID=Australia/Brisbane:20230421T143000
DTSTAMP:20260425T123326
CREATED:20230406T073900Z
LAST-MODIFIED:20230406T073900Z
UID:16977-1682078400-1682087400@ncwq.org.au
SUMMARY:Toowoomba women's business networking and regional tour - 21 & 22 April 2023
DESCRIPTION:Women’s Network Australia and the Toowoomba Chamber of Commerce invite NCWQ Members and friends to a special networking lunch on Friday 21 April\, and a full-day regional tour on 22 April 2023. \nThe Breaking Barriers: Regional Women in Business lunch features speakers including Queensland Small Business Commissioner Dominique Lamb\, Queensland Chief Entrepreneur Julia Spicer and Jessica Ritchie from Transformational Brand Lab. \nGuests will enjoy a two-course meal and drink on arrival at Gip’s Restaurant\, Russell Street\, Toowomba\, from Noon to 2:30pm. \nTickets for the Friday networking lunch cost $159. \nAnd on Saturday 22 April\, WNA will host a private bus tour of the region\, including a gourmet lunch at Myrtille Bistro\, Crows Nest. \nThe tour departs at 9am from the Toowoomba Farmers Market and includes visits to Pechey Distillery Co\, Nolan’s Block\, Monty Brewing Co. and The Village Green before returning to Toowoomba at 4pm. \nTickets for the Saturday full-day tour (including lunch) cost $155. \nTo book tickets to either or both events\, visit the Women’s Network Australia website. 
URL:https://ncwq.org.au/event/toowoomba-womens-business-networking-and-regional-tour-21-22-april-2023/
LOCATION:Gip’s Restaurant\, Russell Street\, Toowoomba\, Queensland\, Australia
CATEGORIES:Affiliate Partner
ATTACH;FMTTYPE=image/png:https://ncwq.org.au/wp-content/uploads/Breaking-Barrier-_wide.png
ORGANIZER;CN="Women's Network Australia":MAILTO:admin@womensnetwork.com.au
END:VEVENT
END:VCALENDAR