BEGIN:VCALENDAR
VERSION:2.0
PRODID:-//NCWQ Inc - ECPv6.15.20//NONSGML v1.0//EN
CALSCALE:GREGORIAN
METHOD:PUBLISH
X-ORIGINAL-URL:https://ncwq.org.au
X-WR-CALDESC:Events for NCWQ Inc
REFRESH-INTERVAL;VALUE=DURATION:PT1H
X-Robots-Tag:noindex
X-PUBLISHED-TTL:PT1H
BEGIN:VTIMEZONE
TZID:Australia/Brisbane
BEGIN:STANDARD
TZOFFSETFROM:+1000
TZOFFSETTO:+1000
TZNAME:AEST
DTSTART:20210101T000000
END:STANDARD
END:VTIMEZONE
BEGIN:VEVENT
DTSTART;TZID=Australia/Brisbane:20220306T130000
DTEND;TZID=Australia/Brisbane:20220311T153000
DTSTAMP:20260420T234832
CREATED:20220220T020130Z
LAST-MODIFIED:20220301T004034Z
UID:12538-1646571600-1647012600@ncwq.org.au
SUMMARY:10th Annual SIMNI IWD Be Inspired Forum and IWD Award presentation
DESCRIPTION:NCWQ would like to share an open invitation from our Affiliate member\, Soroptimist International Moreton North Inc. (SIMNI)  to attend their 10th Annual SIMNI IWD Be Inspired Forum and IWD Award presentations at the North Lakes Hotel 6 March 2022.\n  \nAbout the Event\nDear NCWQ\,>SIMNI extends a warm invitation to join us as we celebrate our 10th Annual SIMNI IWD Be Inspired Forum and IWD Award presentations. \nThe venue is the North Lakes Hotel 22 Lakeside Drive at 1pm – 3.30pm \nHigh Tea and Refreshments @$39 – discount for tables of 8. \nOur Be Inspired Forum is a Q & A In Conversation Panel of Keynote Speakers including: \n\nLarissa Waters\, Queensland Senator\nRochelle Courtenay-Gilbert CEO & Founder Share the Dignity\nJodie Shipway Deputy Major Moreton Bay Regional Council\,\nAli France Disability Advocate\, Candidate for Dickson Federal Electorate\n\nThey will be sharing their insights and their experiences to enable participants to gain a better understanding of how we can engage in the political processes around decision-making that impact on our lives. \nMost importantly we will be focused on #BreakTheBias\, The Qld Womens Week theme “Keep Making Noise” and the UN Theme Changing Climates—Equality today for a sustainable tomorrow. \nPlease share this invitation within your networks and if you are able to come – we would love to see you. \nNamaste\nChris Knight \nSIMNI President 2021-2022 \n  \nTickets / Book\nPlease book here. \n  \nMore Information\n \n  \nPlus a Date Claimer!!\nSpecial SIMNI Zoom Meeting on Tuesday 8th March 7.30pm with SIMNI Member Adele Rice AM on the work that she has been involved in supporting refugees\, asylum seekers and migrant women and children. \n  \n 
URL:https://ncwq.org.au/event/10th-annual-simni-iwd-be-inspired-forum-and-iwd-award-presentation/
LOCATION:North Lakes Hotel\, Australia
CATEGORIES:Affiliate Partner
ATTACH;FMTTYPE=image/jpeg:https://ncwq.org.au/wp-content/uploads/simni-iwd-event-invitation.jpg
ORGANIZER;CN="Soroptimist International Moreton North Inc. (SIMNI)":MAILTO:simoretonnorth@siswp.org
END:VEVENT
END:VCALENDAR