BEGIN:VCALENDAR
VERSION:2.0
PRODID:-//NCWQ Inc - ECPv6.15.20//NONSGML v1.0//EN
CALSCALE:GREGORIAN
METHOD:PUBLISH
X-WR-CALNAME:NCWQ Inc
X-ORIGINAL-URL:https://ncwq.org.au
X-WR-CALDESC:Events for NCWQ Inc
REFRESH-INTERVAL;VALUE=DURATION:PT1H
X-Robots-Tag:noindex
X-PUBLISHED-TTL:PT1H
BEGIN:VTIMEZONE
TZID:Australia/Brisbane
BEGIN:STANDARD
TZOFFSETFROM:+1000
TZOFFSETTO:+1000
TZNAME:AEST
DTSTART:20210101T000000
END:STANDARD
END:VTIMEZONE
BEGIN:VEVENT
DTSTART;VALUE=DATE:20220404
DTEND;VALUE=DATE:20220524
DTSTAMP:20260424T060957
CREATED:20220330T233759Z
LAST-MODIFIED:20220523T004400Z
UID:12497-1649030400-1653350399@ncwq.org.au
SUMMARY:Bursary Program 2022 Applications Opens Monday 4 April - Close 23 May 2022
DESCRIPTION:Applications for the 2022 NCWQ Bursary program will be open from Monday 4 April (closes Monday 23 May 2022) \nSpecific details of the bursaries on offer are now finalised\, with details being posted on the website this Monday 4 April. \n  \nHow to Apply\nThe applications process is online\, although there is a print-based form available on request. \nSelections will be finalised by the end of June\, with the presentation details to be confirmed\, but expected to be towards the end of July. \n\nMore Information\nFull details about the bursary program will be available on the NCWQ Bursary 2022 page\, where you can check your eligibility and apply online. \nApplications details including links to the online submission for each bursary will be posted 4 April 2022. \n \n  \nFor further general information about the Bursary Program: \nPlease contact Kathy Cavanagh\, NCWQ Bursary Program Manager\n at bursaries@ncwq.org.au or send a query here. \n  \n\nAbout the Bursary Program\nEstablished in 1905\, the National Council of Women of Queensland Inc. (NCWQ) continues to represent the voice of thousands of women through its affiliated organisations and individual membership. \nThe bursary program\, since its commencement in 2009\, indicates the strong commitment of NCWQ to equality of opportunity for all women\, especially in offering assistance to Queensland female students as they pursue their chosen pathway of study. \nThe 2022 program\, through NCWQ and its sponsors\, offers a range of bursaries\, to assist Queensland women with their educational expenses. Most bursaries are valued between $1\,000 to $1\,500 each. \n  \n  \n 
URL:https://ncwq.org.au/event/2022-bursary-program-applications-open/
LOCATION:Queensland
CATEGORIES:NCWQ
ATTACH;FMTTYPE=image/jpeg:https://ncwq.org.au/wp-content/uploads/ncwq-bursary-dates-2022-reminder.jpg
ORGANIZER;CN="National Council of Women of Queensland":MAILTO:events@ncwq.org.au
END:VEVENT
END:VCALENDAR