BEGIN:VCALENDAR
VERSION:2.0
PRODID:-//NCWQ Inc - ECPv6.15.20//NONSGML v1.0//EN
CALSCALE:GREGORIAN
METHOD:PUBLISH
X-WR-CALNAME:NCWQ Inc
X-ORIGINAL-URL:https://ncwq.org.au
X-WR-CALDESC:Events for NCWQ Inc
REFRESH-INTERVAL;VALUE=DURATION:PT1H
X-Robots-Tag:noindex
X-PUBLISHED-TTL:PT1H
BEGIN:VTIMEZONE
TZID:Australia/Brisbane
BEGIN:STANDARD
TZOFFSETFROM:+1000
TZOFFSETTO:+1000
TZNAME:AEST
DTSTART:20210101T000000
END:STANDARD
END:VTIMEZONE
BEGIN:VEVENT
DTSTART;TZID=Australia/Brisbane:20220615T173000
DTEND;TZID=Australia/Brisbane:20220615T190000
DTSTAMP:20260424T044100
CREATED:20220517T004708Z
LAST-MODIFIED:20220531T050211Z
UID:15327-1655314200-1655319600@ncwq.org.au
SUMMARY:NCWQ New Members Meet & Greet - 15 June 2022
DESCRIPTION:The National Council of Women of Queensland Inc would like to invite our new members to a meet and greet evening. We’d love for you to come along\, meet some of the current committee members and mingle with other new members of our lovely community. \n  \nDetails\nDate & Time: Wednesday\, 15 June 2022 from 5.30pm to 7.00pm \nVenue: Dentons\, Level 25\, 10 Eagle Street\, Brisbane \nRSVP:  No later than midday Friday\, 10 June 2022 \nCost: No cost \n  \nRSVP\nRSVP via Humantix\n  \nMeet other members including the NCWQ Management Committee\n  \n 
URL:https://ncwq.org.au/event/ncwq-new-members-meet-greet-june-2022/
LOCATION:Dentons\, Level 25\, 10 Eagle Street\, Brisbane\, Queensland\, 4000
CATEGORIES:NCWQ
ATTACH;FMTTYPE=image/jpeg:https://ncwq.org.au/wp-content/uploads/meet-n-greet-june-2022.jpg
ORGANIZER;CN="National Council of Women of Queensland":MAILTO:events@ncwq.org.au
END:VEVENT
END:VCALENDAR