BEGIN:VCALENDAR
VERSION:2.0
PRODID:-//NCWQ Inc - ECPv6.15.20//NONSGML v1.0//EN
CALSCALE:GREGORIAN
METHOD:PUBLISH
X-ORIGINAL-URL:https://ncwq.org.au
X-WR-CALDESC:Events for NCWQ Inc
REFRESH-INTERVAL;VALUE=DURATION:PT1H
X-Robots-Tag:noindex
X-PUBLISHED-TTL:PT1H
BEGIN:VTIMEZONE
TZID:Australia/Brisbane
BEGIN:STANDARD
TZOFFSETFROM:+1000
TZOFFSETTO:+1000
TZNAME:AEST
DTSTART:20210101T000000
END:STANDARD
END:VTIMEZONE
BEGIN:VEVENT
DTSTART;TZID=Australia/Brisbane:20221013T100000
DTEND;TZID=Australia/Brisbane:20221013T123000
DTSTAMP:20260423T205717
CREATED:20220920T015213Z
LAST-MODIFIED:20221013T041242Z
UID:15932-1665655200-1665664200@ncwq.org.au
SUMMARY:NCWQ Bursaries Fundraising Morning Tea and Fashion Parade
DESCRIPTION:You are invited to the NCWQ Annual Bursaries Fundraising Morning Tea and Fashion Parade hosted by the National Council of Women of Queensland Inc. \nThis function supports the NCWQ bursary program for Queensland women to assist with their educational expenses. \nThe morning will include: \n\nFashion parade by Soubrét Pink\nDelicious morning tea\nNCWQ bursary recipient speaker: Forum Communicators’ bursary recipient Olivia Chissell\nSoomi O Scarf showcase\nRaffles\n\n  \nEvent Details\nDate: Thursday\, 13 October 2022\nTime: 9:45am for 10:00am start\, concluding at 12:30pm\nCost: $60 per person or $580 for a table of ten (plus booking fees)\nRSVP by: 5 October 2022\nVenue: The Tattersalls Club\, 215 Queen Street\, Brisbane QLD 4000\nEnquiries: bursaries@ncwq.org.au \nPurchase Tickets\n via Humantix\n  \nDownload Flyer\n \n 
URL:https://ncwq.org.au/event/ncwq-bursaries-fundraising-morning-tea-and-fashion-parade-13-oct/
LOCATION:The Tattersalls Club\, 215 Queen Street\, Brisabne\, QLD\, 4000\, Australia
CATEGORIES:NCWQ
ATTACH;FMTTYPE=image/jpeg:https://ncwq.org.au/wp-content/uploads/event-bursary-morn-tea-13oc.jpg
ORGANIZER;CN="National Council of Women of Queensland":MAILTO:events@ncwq.org.au
END:VEVENT
END:VCALENDAR