BEGIN:VCALENDAR
VERSION:2.0
PRODID:-//NCWQ Inc - ECPv6.15.20//NONSGML v1.0//EN
CALSCALE:GREGORIAN
METHOD:PUBLISH
X-ORIGINAL-URL:https://ncwq.org.au
X-WR-CALDESC:Events for NCWQ Inc
REFRESH-INTERVAL;VALUE=DURATION:PT1H
X-Robots-Tag:noindex
X-PUBLISHED-TTL:PT1H
BEGIN:VTIMEZONE
TZID:Australia/Brisbane
BEGIN:STANDARD
TZOFFSETFROM:+1000
TZOFFSETTO:+1000
TZNAME:AEST
DTSTART:20210101T000000
END:STANDARD
END:VTIMEZONE
BEGIN:VEVENT
DTSTART;TZID=Australia/Brisbane:20221119T100000
DTEND;TZID=Australia/Brisbane:20221119T110000
DTSTAMP:20260423T205717
CREATED:20221102T073904Z
LAST-MODIFIED:20221102T073947Z
UID:15994-1668852000-1668855600@ncwq.org.au
SUMMARY:NCWQ AGM 2022
DESCRIPTION:REMINDER: The National Council of Women of Queensland Inc (NCWQ) AGM will be held Saturday 19 November 2022. The meeting will be held via Zoom.  \nThe Zoom Meeting link will be emailed to registered attendees one day prior to the AGM. \nAll NCWQ members are invited to attend. \nPlease RSVP today to ensure you receive the Zoom link. \nEvent Details\nDate: Saturday\, 19 November 2022\nTime: 10am to 11am\nCost: No cost\nRSVP by: 18 November 2022\nVenue: Online via ZOOM\nEnquiries: info@ncwq.org.au \n  \nInformation Pack\nThe AGM Information Pack includes the following: \n1) Notice of the NCWQ 117th Annual General Meeting \n2) Proxy Form for the Annual General Meeting \n3) Nomination Forms for the NCWQ Committee \n4) Invitation to the 117th Annual General Meeting \nUnder our Constitution\, only financial members can vote at our Annual General Meeting although guests are welcome to attend. If you are attending as the nominated Delegate(s) of an Affiliated Organisation\, kindly note this when booking so we can ensure that your vote is counted. \n  \nRSVP\nThe AGM will be held via Zoom. Please register here. \n  \n\n 
URL:https://ncwq.org.au/event/ncwq-agm-2022/
LOCATION:Online / Zoom
CATEGORIES:NCWQ
ATTACH;FMTTYPE=image/jpeg:https://ncwq.org.au/wp-content/uploads/ncwq-agm-19.11.2022.jpg
ORGANIZER;CN="National Council of Women of Queensland":MAILTO:events@ncwq.org.au
END:VEVENT
END:VCALENDAR