BEGIN:VCALENDAR
VERSION:2.0
PRODID:-//NCWQ Inc - ECPv6.15.20//NONSGML v1.0//EN
CALSCALE:GREGORIAN
METHOD:PUBLISH
X-WR-CALNAME:NCWQ Inc
X-ORIGINAL-URL:https://ncwq.org.au
X-WR-CALDESC:Events for NCWQ Inc
REFRESH-INTERVAL;VALUE=DURATION:PT1H
X-Robots-Tag:noindex
X-PUBLISHED-TTL:PT1H
BEGIN:VTIMEZONE
TZID:Australia/Brisbane
BEGIN:STANDARD
TZOFFSETFROM:+1000
TZOFFSETTO:+1000
TZNAME:AEST
DTSTART:20210101T000000
END:STANDARD
END:VTIMEZONE
BEGIN:VEVENT
DTSTART;VALUE=DATE:20220523
DTEND;VALUE=DATE:20220524
DTSTAMP:20260421T012033
CREATED:20220427T123053Z
LAST-MODIFIED:20220523T004308Z
UID:14590-1653264000-1653350399@ncwq.org.au
SUMMARY:Submit Your Bursary Application Now - CLOSES TODAY Monday 23 May 2022 - Calling Female Students!
DESCRIPTION:Applications for the 2022 NCWQ Bursary Program are OPEN (as at Monday 4 April 2022) and will CLOSE Monday 23 May 2022. \nCalling Female Students\nWith 36 bursaries on offer\, you or someone you know may be eligible. \nApplication is made through an online process\, paper-based form available on request. \nFull details about the bursary program are available on our 2022 Bursary Program section\, where you can check your eligibility and apply online. \nSelections will be finalised by the end of June\, with the presentation details to be confirmed\, but expected to be towards the end of July. \n  \nHow to Apply\nThe applications process is online\, although there is a print-based form available on request. \nSearch for a suitable Bursary here >> \n  \nMore Information\n \nFor further general information about the Bursary Program: \nPlease contact Kathy Cavanagh\, NCWQ Bursary Program Manager\n at bursaries@ncwq.org.au\, call 0407 117 378 or send a query here. \n  \nAbout the Bursary Program\nEstablished in 1905\, the National Council of Women of Queensland Inc. (NCWQ) continues to represent the voice of thousands of women through its affiliated organisations and individual membership. \nThe bursary program\, since its commencement in 2009\, indicates the strong commitment of NCWQ to equality of opportunity for all women\, especially in offering assistance to Queensland female students as they pursue their chosen pathway of study. \nThe 2022 program\, through NCWQ and its sponsors\, offers a range of bursaries\, to assist Queensland women with their educational expenses. Most bursaries are valued between $1\,000 to $1\,500 each. \n  \n  \n 
URL:https://ncwq.org.au/event/submit-your-bursary-application-now-closes-monday-23-may-2022/
LOCATION:Qld
CATEGORIES:NCWQ
ATTACH;FMTTYPE=image/jpeg:https://ncwq.org.au/wp-content/uploads/bursary-applications-closing-1.jpg
ORGANIZER;CN="National Council of Women of Queensland":MAILTO:events@ncwq.org.au
END:VEVENT
BEGIN:VEVENT
DTSTART;TZID=Australia/Brisbane:20220505T174500
DTEND;TZID=Australia/Brisbane:20220505T193000
DTSTAMP:20260421T012033
CREATED:20220427T225349Z
LAST-MODIFIED:20220430T065859Z
UID:15196-1651772700-1651779000@ncwq.org.au
SUMMARY:Women in Leadership - Sports Management - Event Invitation
DESCRIPTION:The National Council of Women of Queensland Inc welcome you to attend the first of our series discussing non-traditional pathways. In this series\, we look to share and discuss alternative careers for women in our society. \nFor our first session\, we have invited a panel of three successful sports management CEOs to give us their insights into female leadership in sport – Breeanna Brock (CEO of Brisbane Lions AFLW)\, Kate Davies (CEO of Netball QLD and the QLD Firebirds)\, and Alison Lyons (CEO of Hockey QLD). \n  \nAbout\nOur panel will discuss various issues in sports management and leadership\, including why there is a minority of women in senior leadership positions in the sports industry and what can be done to encourage and support more females into these roles. \nAll profits from this event will go to supporting Ukrainian women in QLD (see further details on this below). \nDate: Thursday\, 5 May 2022 \nTime: 5:45pm for a 6:15pm start\, finish at 7:30pm \nVenue: Morningside Panthers Australian Football Club\, 4 Oak Street\, Hawthorne \nCost: $25 includes tea/coffee and a snack on arrival. \nRSVP: 3 May 2022 \n  \nBook\nTickets are on sale via Humantix\n  \nAbout the Speakers\nBreeanna Brock (CEO of Brisbane Lions AFLW)\nBreeanna Brock was the first female CEO to be appointed in the AFL. In her nine -year tenure in female football\, she has cemented Queensland’s reputation as one of the powerhouse states for women’s AFL. \nBy establishing the Brisbane Lions inaugural women’s team\, who won the AFLW Premiership in 2021\, Breeanna has created a full playing pathway for the women and girls of Queensland. With access to this elite\, high performing environment\, females are no longer forced to abandon a game they love due to lack of professional opportunity. \nAwarded the AFL Football Woman of the Year award in 2018\, Breeanna’s work is slowly dismantling age-old thinking around female representation in sport\, to create a more level\, gender-balanced\, playing field.  “In my current role\, I am able to combine my passion for AFL with helping women to achieve equality and success – both on and off the sports field.” \n  \nAlison Lyons (CEO of Hockey QLD)\nAlison was appointed the Chief Executive Officer of Hockey Queensland in September 2019. She has 15 years working in the sports industry both in Australia and overseas. Before moving back to Queensland she spent 7 years with Gymnastics Victoria and in that time progressed her career from Participation Coordinator to General Manager then on to the CEO role at HQ. Alison is the deputy Chair of Qsport and has held a previous board position with Softball Victoria. \nAlison is a mentor in the Women Sport Australia mentoring program and is passionate about advocating for more women in leadership positions. Alison grew up in Far North Queensland but has spent much of her adult life travelling\, she is excited to be back in Queensland especially with the 2032 Olympics on the horizon.\n  \nKate Davies (CEO of  Netball QLD and the QLD Firebirds)\nIn January Kate Davies was appointed Chief Executive Officer\, Netball Queensland and the Queensland Firebirds. She is particularly looking forward to making a contribution to the Firebirds\,\nconsidered to be one of the most iconic sporting teams in Queensland. \nDavies has extensive experience across the public\, private and not-for-profit sectors\, including Senior Executive roles with local and state government\, Cricket Australia and Queensland Cricket. \n  \nModerator\nRonda Nix OAM\nThe Moderator for the evening will be Ronda Nix\, NCWQ Committee Member and Bursary Coordinator for the Queensland Government Office for Women Bursaries. \nA former sports administrator and sports official\, Ronda was awarded an OAM in The Order of Australia in 2013 for her service to hockey \n  \n  \n  \nProceeds to Support Ukrainian women in QLD\nAll profits from this event will go to supporting Ukrainian women in QLD through Ukrainian Community of QLD. \nThe UCQ Inc Ukraine Crisis and Humanitarian Assistance Council is raising funds to be able to provide urgent care and to meet specific needs for Ukrainian refugees\, such as specialist medical treatment\, crisis accommodation\, disability equipment and foods etc.  \nThis is especially important whilst Ukrainian refugees do not currently have medical access\, education access and the right to work as they arrive to Australia. \nFor more information\, refer to their website. \nExtra donations for this cause can also be made via the booking link (not tax deductible)\, or visit their website directly. \n  \nGet Your Ticket Today!
URL:https://ncwq.org.au/event/women-in-leadership-sports-management/
LOCATION:Morningside Panthers Australian Football Club\, 4 Oak Street\, Hawthorne\, Qld
CATEGORIES:NCWQ
ATTACH;FMTTYPE=image/jpeg:https://ncwq.org.au/wp-content/uploads/women-in-leadership-event-5-may.jpg
ORGANIZER;CN="National Council of Women of Queensland":MAILTO:events@ncwq.org.au
END:VEVENT
BEGIN:VEVENT
DTSTART;VALUE=DATE:20220404
DTEND;VALUE=DATE:20220524
DTSTAMP:20260421T012033
CREATED:20220330T233759Z
LAST-MODIFIED:20220523T004400Z
UID:12497-1649030400-1653350399@ncwq.org.au
SUMMARY:Bursary Program 2022 Applications Opens Monday 4 April - Close 23 May 2022
DESCRIPTION:Applications for the 2022 NCWQ Bursary program will be open from Monday 4 April (closes Monday 23 May 2022) \nSpecific details of the bursaries on offer are now finalised\, with details being posted on the website this Monday 4 April. \n  \nHow to Apply\nThe applications process is online\, although there is a print-based form available on request. \nSelections will be finalised by the end of June\, with the presentation details to be confirmed\, but expected to be towards the end of July. \n\nMore Information\nFull details about the bursary program will be available on the NCWQ Bursary 2022 page\, where you can check your eligibility and apply online. \nApplications details including links to the online submission for each bursary will be posted 4 April 2022. \n \n  \nFor further general information about the Bursary Program: \nPlease contact Kathy Cavanagh\, NCWQ Bursary Program Manager\n at bursaries@ncwq.org.au or send a query here. \n  \n\nAbout the Bursary Program\nEstablished in 1905\, the National Council of Women of Queensland Inc. (NCWQ) continues to represent the voice of thousands of women through its affiliated organisations and individual membership. \nThe bursary program\, since its commencement in 2009\, indicates the strong commitment of NCWQ to equality of opportunity for all women\, especially in offering assistance to Queensland female students as they pursue their chosen pathway of study. \nThe 2022 program\, through NCWQ and its sponsors\, offers a range of bursaries\, to assist Queensland women with their educational expenses. Most bursaries are valued between $1\,000 to $1\,500 each. \n  \n  \n 
URL:https://ncwq.org.au/event/2022-bursary-program-applications-open/
LOCATION:Qld
CATEGORIES:NCWQ
ATTACH;FMTTYPE=image/jpeg:https://ncwq.org.au/wp-content/uploads/ncwq-bursary-dates-2022-reminder.jpg
ORGANIZER;CN="National Council of Women of Queensland":MAILTO:events@ncwq.org.au
END:VEVENT
BEGIN:VEVENT
DTSTART;TZID=Australia/Brisbane:20220403T093000
DTEND;TZID=Australia/Brisbane:20220403T120000
DTSTAMP:20260421T012033
CREATED:20220331T001058Z
LAST-MODIFIED:20220331T011406Z
UID:12607-1648978200-1648987200@ncwq.org.au
SUMMARY:The Betrayal of Anne Frank - A Discussion on the Cold Case Investigation
DESCRIPTION:The National Council of Women of Queensland hosts former Queensland detective (who was then working for the International Criminal Court in The Hague)\, Mr Brendan Rook\, for an engaging discussion on the The Betrayal of Anne Frank\, Cold Case Investigation. \n  \nAbout\nOn the 4th August 1944\, Anne Frank\, along with her parents\, Otto and Edith\, sister Margot\, Otto’s friends Hermann and Auguste van Pels\, their son\, Peter and a dentist named Fritz Pfeffer were discovered and arrested by the Nazis and taken to a concentration camp. That day marked the end of twenty-five months of onderduiken for these 8 people. For almost 75 years\, the question of who betrayed the Frank family had never been decisively answered. \nFive years ago\, first a retired FBI agent and later on a Queensland detective who was working for the International Criminal Court in The Hague\, joined the investigative team in Amsterdam to uncover who the betrayal is. \nRead Former Queensland homicide detective played key role on team searching for who betrayed Anne Frank’s family to the Nazis – ABC News \nDate: Sunday\, 3 April 2022 \nTime: 9:30am for 10am start \nGuest Speaker: Brendan Rook\, Betrayal of Anne Frank Investigator \nCost: $20 per person; Students $15 per person. Includes brunch. Drinks available for purchase. \nFlyer: Download the flyer (pdf) \n  \nBook\n \n  \n  \nTickets are on sale via Humantix\n  \n  \n  \n  \nAbout the Guest Speaker – Brendan Rook\nBetrayal of Anne Frank Investigator\n \nBrendan Rook entered the world of law enforcement at the age of 17 and currently has over 35 years experience in criminal investigation and law enforcement at State\, National and International levels. Investigations range from sex crimes\, fraud\, arson and serial homicides to the most serious crimes of international concern including genocide\, war crimes and crimes against humanity. \nBrendan has also conducted investigations outside of the public service arena\, which include an investigation ‘The Betrayal of Anne Frank’ for Dutch Producer Thijs Bayens (2018-2020) resulting in a publication of the same name. Brendan is currently involved in other investigative activities. \n  \n 
URL:https://ncwq.org.au/event/the-betrayal-of-anne-frank-a-discussion-on-the-cold-case-investigation/
LOCATION:Elements Village\, 224 Dennis Rd\,\, Springwood\, Qld\, 4217\, Australia
CATEGORIES:NCWQ
ATTACH;FMTTYPE=image/jpeg:https://ncwq.org.au/wp-content/uploads/ncwq-event-3-april-2022.jpg
ORGANIZER;CN="National Council of Women of Queensland":MAILTO:events@ncwq.org.au
END:VEVENT
BEGIN:VEVENT
DTSTART;TZID=Australia/Brisbane:20220310T190000
DTEND;TZID=Australia/Brisbane:20220310T203000
DTSTAMP:20260421T012033
CREATED:20220228T061036Z
LAST-MODIFIED:20220228T061146Z
UID:12421-1646938800-1646944200@ncwq.org.au
SUMMARY:International Women's Day 2022 - "Women’s economic security through non-traditional pathways"
DESCRIPTION:The National Council of Women of Queensland\, in collaboration with Soroptimist International Logan Inc would like to invite you to our joint International Women’s Day. \nDate: Thursday\, 10 March 2022 \nTime: 6:30pm for 7:00pm start \nGuest Speaker: Senator Amanda Stoker\, Assistant Minister for Women \nCost: $30 per person; Students $20 per person\nIncludes dinner. Drinks available for purchase. \n  \nBook\n \n  \nTickets are on sale via Humantix \n  \n  \nSupport\nProceeds from this event will help fund NCWQ and Soroptimist International Logan Inc bursaries so that we can continue to assist and encourage girls and women to further their education to secure their futures. \n  \n  \n\nAbout the Guest Speaker – Senator Amanda Stoker\nAssistant Minister for Women\nIn December 2020\, Amanda was appointed as the Assistant Minister to the Attorney-General. In March 2021 she was also appointed Assistant Minister for Industrial Relations\, as well as the Assistant Minister for Women. \nAmanda joined the Liberal Party at the age of 19. She has spent over a decade growing in the party and giving voice to her convictions. She is motivated by the desire to see Australia return to a country of opportunity based on centre- right values. \nAs a Brisbane based member of the Liberal National Party\, Amanda sits in the Liberal Party room in Canberra. Amanda is on the Economics\, Finance and Public Administration\, Public Works\, Future Work and Regulations and Ordinances Senate Committees\, as well as the Joint Standing Committee on the recognition of Indigenous people in the Australian Constitution and the Select Committee on Charity Fundraising. \n  \n 
URL:https://ncwq.org.au/event/international-womens-day-2022-womens-economic-security-through-non-traditional-pathways/
LOCATION:Elements Village\, 224 Dennis Rd\,\, Springwood\, Qld\, 4217\, Australia
CATEGORIES:NCWQ
ATTACH;FMTTYPE=image/jpeg:https://ncwq.org.au/wp-content/uploads/event-iwd-ncwq-march-2022.jpg
ORGANIZER;CN="National Council of Women of Queensland":MAILTO:events@ncwq.org.au
END:VEVENT
BEGIN:VEVENT
DTSTART;TZID=Australia/Brisbane:20220309T120000
DTEND;TZID=Australia/Brisbane:20220309T133000
DTSTAMP:20260421T012033
CREATED:20220228T025721Z
LAST-MODIFIED:20220228T062025Z
UID:12575-1646827200-1646832600@ncwq.org.au
SUMMARY:#IamRemarkable Online Workshop for International Women's Day 2022
DESCRIPTION:We invite you to celebrate International Women’s Day with us!\nThis year’s theme is #BreakTheBias\, a commitment that is central to the #IamRemarkable movement. #IamRemarkable is a global Google initiative that strives to empower everyone\, particularly women and underrepresented groups\, to express their achievements in the workplace and beyond. \nWe know that gender\, race\, age\, ability\, and other identity-based stereotypes can impact perception about a person’s competence and ability. This leads to implicit biases we may not even be aware – let’s take action. \n  \nAbout the Workshop\nWe are inviting all NCWQ members to an exclusive #IamRemarkable workshop\, held by Saalihah Seedat (Consultant Clinical Pharmacist and Personal Development Coach) in celebration of International Women’s Day on March 9 from 12-1:30pm. \n#IamRemarkable workshops have had measurable impact\, where after participating: \n82% feel more confident\n89% are more active in self-promotion\n49% achieve job or career growth\nDon’t miss this opportunity to foster the skills in self-promotion you need to cultivate your networks and chase that next opportunity. \nThis event is FREE\, but registrations are essential\, so book your place. \nHost: Saalihah Seedat\, Accredited My Health for Life Facilitator\, Consultant Clinical Pharmacist \nDate: 12pm – 1.30pm Wednesday 9 March 2022 \nPrice: FREE for NCWQ members and affiliate organisations. \nVenue: Online via Zoom (details will be sent to registered participants) \nWho can attend? This program is an exclusive offer open to all NCWQ members and affiliate organisations. If you wish to join NCWQ\, we welcome new membership applications. NCWQ membership starts at $24 per year. You can apply here. \n  \nRegister Today!\nRegistration is essential. Please register today for this free event. \n  \nFurther Information\nContact: Email events@ncwq.org.au \n  \nAbout the Presenter\nSaalihah Seedat\nConsultant Clinical Pharmacist\, Certified My Health for Life Facilitator\, Accredited Mental Health First Aider\, Personal Development Coach\, Mentor (B.Pharm\, MPS\, AACPA\, Dip. Leadership\, Coaching & Mentoring)\, NCWQ Committee member \nSaalihah Seedat is a Consultant Clinical Pharmacist\, social entrepreneur\, philanthropist and mentor who is passionate about leadership\, social issues and making a difference in people’s lives. \nA mom of 3\, Saalihah strikes a work-life balance between working as a Consultant Pharmacist conducting medication reviews in the community sector\, a part-time Clinical Pharmacist in private hospital practice and as a My health for life Facilitator. \nAlong with her passion for inspiring and motivating individuals as a personal development and wellbeing specialist\, Saalihah is a highly skilled social innovator of change. She says that she owes her success and achievements to her supportive husband who has been her biggest cheerleader since they migrated to Australia in 2002 from Southern Africa. \nSaalihah has undertaken voluntary roles with the various Share the Dignity initiatives\, Skilling Queenslanders for work programs\, and also in the organising of Breast Cancer fundraising events for the Crescents of Brisbane. \nSaalihah has sponsored a NCWQ bursary for an Emerging Female Leader from a culturally and linguistically diverse background (2019/2020) and has undertaken the role of Mentor to the National Council of Young Women of Qld. \nSaalihah has also received the following achievements and accolades: \n\nProfiled as part of the global Celebrating Women initiative in 2017\nFinalist in the 2018 Access Community Services Ltd Qld Women in Leadership award\nFinalist in 2019 Pharmaceutical Society of Australia Bowl Of Hygea Qld Pharmacist of the Year Award\nCity Of Logan 2020 Australia Day Awards\, Citizen of the Year Finalist\nFinalist in 2020 The 25th International Women’s Day Festival (Gold Coast) Leadership in Community Sector Award\nBlackmores Mercie Whellan Women+Wellbeing Awards Finalist 2021\n\nCooking and experimenting with different cuisines stirs her soul and she adores stimulating conversation. Saalihah is currently pursuing a Postgraduate qualification in Clinical Pharmacy Aged Care through Monash University. She strongly believes that ‘Knowledge is Power’ and by sharing knowledge we can contribute to a more connected\, empowered and united community \n  \n 
URL:https://ncwq.org.au/event/iamremarkable-online-workshop-for-international-womens-day-2022/
LOCATION:Online / Zoom
CATEGORIES:NCWQ
ATTACH;FMTTYPE=image/jpeg:https://ncwq.org.au/wp-content/uploads/wed-9-march-event.jpg
ORGANIZER;CN="National Council of Women of Queensland":MAILTO:events@ncwq.org.au
END:VEVENT
BEGIN:VEVENT
DTSTART;VALUE=DATE:20220209
DTEND;VALUE=DATE:20220210
DTSTAMP:20260421T012033
CREATED:20220130T072607Z
LAST-MODIFIED:20220228T055710Z
UID:12492-1644364800-1644451199@ncwq.org.au
SUMMARY:'My Health For Life’ Lifestyle Modification Program
DESCRIPTION:Why not start the new year working towards living a healthier life? \nNCWQ Members and Affiliate Organisations have an exclusive opportunity to participate in My Health for Life – a free lifestyle modification program delivered online\, designed to help eligible participants improve their health and reduce their risk of developing chronic disease. \nIt takes a fresh\, personalised approach to help people move past the barriers that stand in the way of making healthy choices and positive lifestyle change. \nThis exclusive program will be held by Saalihah Seedat\, Accredited My Health for Life Facilitator (Consultant Clinical Pharmacist) commencing in February 2022. \n  \nAbout the Program\nMy Health for Life is a  free lifestyle modification program delivered online\, designed to help eligible participants improve their health and reduce their risk of developing chronic disease. The State Government has invested in the health of Queenslanders through funding the My health for life program\, developed and delivered by the Healthier Queensland Alliance (collaboration between Heart Foundation\, Stroke Foundation\, Diabetes QLD\, Primary Health Care Networks). \nThe program aims to prevent the development of chronic conditions such as type 2 diabetes\, heart disease or stroke in Queenslanders.   It takes a fresh\, personalised approach to help people move past the barriers that stand in the way of making healthy choices and positive lifestyle change. \nHost: Saalihah Seedat\, Accredited My Health for Life Facilitator (Consultant Clinical Pharmacist) \nDate: Commencing Feb 2022 (one hour weekly for a total of 10 sessions OR 2 hours fortnightly for a total of 5 sessions) \nPrice: FREE for NCWQ members and affiliate organisations. \nVenue: Online via Zoom (details will be sent to registered participants) \nWho can attend? This program is an exclusive offer open to all NCWQ members and affiliate organisations. If you wish to join NCWQ\, we welcome new membership applications. NCWQ membership starts at $24 per year. You can apply here. \n\nExclusive NCWQ Offer\nThis online program will be exclusive to NCWQ members and affiliate organisations. \n  \nFurther Information\nFor expressions of interest: Email events@ncwq.org.au or Call 0404 296 297. \nMore information: visit www.myhealthforlife.com.au \nPlease download the Information Flyer (1mb pdf) for further details. \n  \n \nAbout the Accredited My Health for Life Facilitator\nSaalihah Seedat\nConsultant Clinical Pharmacist\, Certified My Health for Life Facilitator\, Accredited Mental Health First Aider\, Personal Development Coach\, Mentor\n(B.Pharm\, MPS\, AACPA\, Dip. Leadership\, Coaching & Mentoring)\, NCWQ Committee member \n\n \nSaalihah Seedat is a Consultant Clinical Pharmacist\, social entrepreneur\, philanthropist and mentor who is passionate about leadership\, social issues and making a difference in people’s lives. \nA mom of 3\, Saalihah strikes a work-life balance between working as a Consultant Pharmacist conducting medication reviews in the community sector\, a part-time Clinical Pharmacist in private hospital practice and as a My health for life Facilitator. \nAlong with her passion for inspiring and motivating individuals as a personal development and wellbeing specialist\, Saalihah is a highly skilled social innovator of change. She says that she owes her success and achievements to her supportive husband who has been her biggest cheerleader since they migrated to Australia in 2002 from Southern Africa. \nSaalihah has undertaken voluntary roles with the various Share the Dignity initiatives\, Skilling Queenslanders for work programs\, and also in the organising of Breast Cancer fundraising events for the Crescents of Brisbane. \nSaalihah has sponsored a NCWQ bursary for an Emerging Female Leader from a culturally and linguistically diverse background (2019/2020) and has undertaken the role of Mentor to the National Council of Young Women of Qld. \nSaalihah has also received the following achievements and accolades: \n\nProfiled as part of the global Celebrating Women initiative in 2017\nFinalist in the 2018 Access Community Services Ltd Qld Women in Leadership award\nFinalist in 2019 Pharmaceutical Society of Australia Bowl Of Hygea Qld Pharmacist of the Year Award\nCity Of Logan 2020 Australia Day Awards\, Citizen of the Year Finalist\nFinalist in 2020 The 25th International Women’s Day Festival (Gold Coast) Leadership in Community Sector Award\nBlackmores Mercie Whellan Women+Wellbeing Awards Finalist 2021\n\nCooking and experimenting with different cuisines stirs her soul and she adores stimulating conversation. Saalihah is currently pursuing a Postgraduate qualification in Clinical Pharmacy Aged Care through Monash University. She strongly believes that ‘Knowledge is Power’ and by sharing knowledge we can contribute to a more connected\, empowered and united community \n  \n 
URL:https://ncwq.org.au/event/my-health-for-life-lifestyle-modification-program/
LOCATION:Online / Zoom
CATEGORIES:NCWQ
ATTACH;FMTTYPE=image/jpeg:https://ncwq.org.au/wp-content/uploads/health-for-life-offer.jpg
ORGANIZER;CN="My Health For Life":MAILTO:mh4l.logan@bigpond.com
END:VEVENT
END:VCALENDAR