BEGIN:VCALENDAR
VERSION:2.0
PRODID:-//NCWQ Inc - ECPv6.15.20//NONSGML v1.0//EN
CALSCALE:GREGORIAN
METHOD:PUBLISH
X-ORIGINAL-URL:https://ncwq.org.au
X-WR-CALDESC:Events for NCWQ Inc
REFRESH-INTERVAL;VALUE=DURATION:PT1H
X-Robots-Tag:noindex
X-PUBLISHED-TTL:PT1H
BEGIN:VTIMEZONE
TZID:Australia/Brisbane
BEGIN:STANDARD
TZOFFSETFROM:+1000
TZOFFSETTO:+1000
TZNAME:AEST
DTSTART:20210101T000000
END:STANDARD
END:VTIMEZONE
BEGIN:VEVENT
DTSTART;VALUE=DATE:20221010
DTEND;VALUE=DATE:20221013
DTSTAMP:20260424T193122
CREATED:20220919T023058Z
LAST-MODIFIED:20220928T064359Z
UID:15535-1665360000-1665619199@ncwq.org.au
SUMMARY:Global Period Poverty Forum – 10th to 12th Oct 2022
DESCRIPTION:The Global Period Poverty Forum (GPPF) will be held 10-12 October\, 2022 in Brisbane\, Queensland. \n  \nAbout The Global Period Poverty Forum\nChangemakers from around the world will come together with a united passion and purpose to discuss menstrual health management practices and advocacy. We will discuss topics spanning from the supply of period products to menstrual education. As well as how we can create change in our own countries and use our united voice to achieve menstrual equity globally. \nThe Global Period Poverty Forum (GPPF) will bring together world-class speakers\, outstanding researchers and those making a global impact for three days of extraordinary development and learning around how WE can unite to end period poverty. \n  \nDetails\nDate: 10 October – 12 October 2022 \nVenue: Online / In-Person (Brisbane)Brisbane \nTickets: $795.00 per person (AUD) – In person three-day ticket; $295.00 per person (AUD) – Online three-day ticket \n  \nFurther Information / Registration\nPlease visit The Global Period Poverty Forum event website \n\n \n  \n  \n  \n  \n  \n  \n 
URL:https://ncwq.org.au/event/global-period-poverty-forum-10th-to12th-oct-2022/
LOCATION:QLD
CATEGORIES:Other
ATTACH;FMTTYPE=image/jpeg:https://ncwq.org.au/wp-content/uploads/global-period-poverty-forum.jpg
END:VEVENT
END:VCALENDAR