BEGIN:VCALENDAR
VERSION:2.0
PRODID:-//NCWQ Inc - ECPv6.15.20//NONSGML v1.0//EN
CALSCALE:GREGORIAN
METHOD:PUBLISH
X-ORIGINAL-URL:https://ncwq.org.au
X-WR-CALDESC:Events for NCWQ Inc
REFRESH-INTERVAL;VALUE=DURATION:PT1H
X-Robots-Tag:noindex
X-PUBLISHED-TTL:PT1H
BEGIN:VTIMEZONE
TZID:Australia/Brisbane
BEGIN:STANDARD
TZOFFSETFROM:+1000
TZOFFSETTO:+1000
TZNAME:AEST
DTSTART:20230101T000000
END:STANDARD
END:VTIMEZONE
BEGIN:VEVENT
DTSTART;TZID=Australia/Brisbane:20240518T110000
DTEND;TZID=Australia/Brisbane:20240518T140000
DTSTAMP:20260426T023847
CREATED:20240510T042451Z
LAST-MODIFIED:20240510T042451Z
UID:19461-1716030000-1716040800@ncwq.org.au
SUMMARY:Pacific Council of Women's Forum - 18 May 2024
DESCRIPTION:The National Council of Women of New Zealand (NCWNZ) and the National Council of Australia (NCWA) warmly invite you to an online Forum for National Councils of Women on Saturday 18 May\, 11am – 2pm (Australia East Coast time). \nThe purpose of this event is to re-establish relationships between the National Councils of Women and other sister organisations across the Pacific nations\, so that we can support each other\, find common points of interest and potential future collective action. \nThis event will be divided into two part: \n\nA webinar with our three guest speakers\, followed by a Q&A session\n\n\n\n\nNoelene Nabulivou – Executive Director for Diverse Voices and Action (DIVA) for Equality\, based in Fjii ;\n\n\n\n\n\n\nStephanie Copus Campbell –  Australian Ambassador for Gender Equality ;\n\n\n\n\n\n\nTara D’Sousa –  Senior Adviser Inclusive Development Gender for the Manatū Aorere\, New Zealand Ministry of Foreign Affairs.\n\n\n\n\nBreakout rooms to discuss particular issues of concern across our region\n\n\n\n\nThe care economy\n\n\n\n\n\n\nClimate justice\n\n\n\n\n\n\nWomen’s health.\n\n\n\nIf you’re interested in attending this exciting event along with your sisters from the Pacific\, please register on Humanitix using this link. \nWe’re looking forward to seeing you online and discussing common issues!
URL:https://ncwq.org.au/event/pacific-council-of-womens-forum-18-may-2024/
ATTACH;FMTTYPE=image/jpeg:https://ncwq.org.au/wp-content/uploads/Pacific-Womens-Forum.jpg
END:VEVENT
BEGIN:VEVENT
DTSTART;TZID=Australia/Brisbane:20240613T184500
DTEND;TZID=Australia/Brisbane:20240613T193000
DTSTAMP:20260426T023847
CREATED:20231218T010401Z
LAST-MODIFIED:20240503T061215Z
UID:18040-1718304300-1718307000@ncwq.org.au
SUMMARY:NCWQ Committee Meeting (Virtual) with Special Guest\, Ria Wong from Micah Projects
DESCRIPTION:NCWQ Committee Members\, along with Affiliates and Associate Members are invited to join this online meeting. \nOur guest speaker is Ria Wong from Micah Projects who leads their Domestic Violence Team.
URL:https://ncwq.org.au/event/ncwq-committee-meeting-virtual-3/
LOCATION:Via Zoom
CATEGORIES:NCWQ
ATTACH;FMTTYPE=image/png:https://ncwq.org.au/wp-content/uploads/Committee-meeting.png
ORGANIZER;CN="NCWQ":MAILTO:info@ncwq.org.au
END:VEVENT
BEGIN:VEVENT
DTSTART;TZID=Australia/Brisbane:20240720T101500
DTEND;TZID=Australia/Brisbane:20240720T140000
DTSTAMP:20260426T023847
CREATED:20231218T011022Z
LAST-MODIFIED:20240509T043235Z
UID:18044-1721470500-1721484000@ncwq.org.au
SUMMARY:Bursary Presentation & President's Lunch
DESCRIPTION:Join the National Council of Women of Queensland for this special bursary presentation\, incorporating the annual President’s lunch. \nAll NCWQ Members\, bursary recipients and their family and friends\, sponsors and guests are invited to attend.
URL:https://ncwq.org.au/event/bursary-presentation-presidents-lunch/
LOCATION:The Women’s College\, University of Queensland\, College Road\, St Lucia\, Brisbane\, Queensland\, 4067
ATTACH;FMTTYPE=image/png:https://ncwq.org.au/wp-content/uploads/2024-Bursary-Lunch-1.png
ORGANIZER;CN="NCWQ":MAILTO:info@ncwq.org.au
END:VEVENT
BEGIN:VEVENT
DTSTART;TZID=Australia/Brisbane:20240808T184500
DTEND;TZID=Australia/Brisbane:20240808T193000
DTSTAMP:20260426T023847
CREATED:20231218T011232Z
LAST-MODIFIED:20240702T101135Z
UID:18049-1723142700-1723145400@ncwq.org.au
SUMMARY:NCWQ Committee Meeting (Virtual)
DESCRIPTION:NCWQ Committee Members\, along with Affiliates and Associate Members are invited to join this online meeting. \nThis meeting with be held via Zoom link. \nGuest Speaker is Lisa McArthur-Daly\, a past Bursary Recipient\, who has been involved in the development of the Queensland Women and Girls’ Health Strategy. \nLisa will share her insights into the strategy from 6:45pm.
URL:https://ncwq.org.au/event/ncwq-committee-meeting-virtual-4/
LOCATION:Via Zoom
CATEGORIES:NCWQ
ATTACH;FMTTYPE=image/png:https://ncwq.org.au/wp-content/uploads/Committee-meeting-1.png
ORGANIZER;CN="NCWQ":MAILTO:info@ncwq.org.au
END:VEVENT
BEGIN:VEVENT
DTSTART;TZID=Australia/Brisbane:20240912T180000
DTEND;TZID=Australia/Brisbane:20240912T193000
DTSTAMP:20260426T023847
CREATED:20231218T011938Z
LAST-MODIFIED:20240528T034647Z
UID:18057-1726164000-1726169400@ncwq.org.au
SUMMARY:NCWQ Annual General Meeting 2024
DESCRIPTION:Our Annual General Meeting will be held online via Zoom\, to enable as many members as possible to participate\, regardless of their location. \nNote: Affiliate Organisations are requested to submit their reports to Kathy Cavanagh (email bursaries@ncwq.org.au) by mid August to ensure they are included in the 2024 Annual Report. \n 
URL:https://ncwq.org.au/event/ncwq-annual-general-meeting-2024/
LOCATION:Via Zoom
CATEGORIES:NCWQ
ATTACH;FMTTYPE=image/png:https://ncwq.org.au/wp-content/uploads/AGM-2024-1.png
ORGANIZER;CN="NCWQ":MAILTO:info@ncwq.org.au
END:VEVENT
BEGIN:VEVENT
DTSTART;TZID=Australia/Brisbane:20241010T184500
DTEND;TZID=Australia/Brisbane:20241010T193000
DTSTAMP:20260426T023847
CREATED:20231218T011418Z
LAST-MODIFIED:20240905T153351Z
UID:18053-1728585900-1728588600@ncwq.org.au
SUMMARY:NCWQ Committee Meeting (Virtual) - Special Guest\, Helen Baker
DESCRIPTION:NCWQ Committee Members\, along with Affiliates and Associate Members are invited to join this online meeting. \nSpecial Guest Helen Baker will speak about Women’s Economic Independence from 6:45pm via Zoom. \nHelen is a qualified\, practising and licensed financial adviser and founder of On Your Own Two Feet\, and Australia-wide service dedicated to empowering women to gain and retain their financial freedom. Her book On Your Own Two Feet: Steady Steps to Women’s Financial Independence was first published in 2014.  Her second book\, On Your Own Two Feet\, Divorce: Survive and Thrive Financial Guide\, published in 2018\, was named Money magazine’s Book of the Month in December 2018.  Helen is a regular panellist talking money matters on all major Australian and New Zealand television stations and her expert opinions are regularly sought after by national radio\, magazines and newspapers. We look forward to hearing from Helen at the October meeting.
URL:https://ncwq.org.au/event/ncwq-committee-meeting-virtual-5/
LOCATION:Via Zoom
ATTACH;FMTTYPE=image/png:https://ncwq.org.au/wp-content/uploads/Committee-meeting.png
ORGANIZER;CN="NCWQ":MAILTO:info@ncwq.org.au
END:VEVENT
BEGIN:VEVENT
DTSTART;TZID=Australia/Brisbane:20241212T180000
DTEND;TZID=Australia/Brisbane:20241212T193000
DTSTAMP:20260426T023847
CREATED:20231218T012224Z
LAST-MODIFIED:20240905T134531Z
UID:18064-1734026400-1734031800@ncwq.org.au
SUMMARY:NCWQ Christmas Breakup Party
DESCRIPTION:NCWQ Christmas Breakup Party for Members and Guests.\nFinger Food and Platters will be served. Drinks will be available for purchase from the Bar.\nRaffle tickets for sale on the night. Great Prizes!! Proceeds to support the NCWQ Bursaries.\nThe venue is within walking distance of the CBD\nParking is available on Astor Terrace or Wickham Terrace
URL:https://ncwq.org.au/event/ncwq-committee-meeting-virtual-6/
LOCATION:Knowhere Brisbane\, 419 Upper Edward Street\, Brisbane\, Queensland\, 4000\, Australia
ATTACH;FMTTYPE=image/png:https://ncwq.org.au/wp-content/uploads/Xmas.png
ORGANIZER;CN="NCWQ":MAILTO:info@ncwq.org.au
END:VEVENT
BEGIN:VEVENT
DTSTART;TZID=Australia/Brisbane:20250213T184500
DTEND;TZID=Australia/Brisbane:20250213T193000
DTSTAMP:20260426T023847
CREATED:20250124T074240Z
LAST-MODIFIED:20250213T060028Z
UID:19938-1739472300-1739475000@ncwq.org.au
SUMMARY:NCWQ Committee Meeting - 13 February 2025
DESCRIPTION:NCWQ Members and Affiliates are invited to join the presentation section of our bi-monthly virtual Committee Meeting. \nThis month\, hear from special guest\, Amy from 4Voices\, a not-for-profit organisation supporting women experiencing domestic violence\, homelessness or are simply seeking connection. \nThis event will be conducted via Zoom link: \nhttps://us02web.zoom.us/j/5771152710 \n  \n  \n 
URL:https://ncwq.org.au/event/ncwq-committee-meeting-13-february-2025/
CATEGORIES:NCWQ
END:VEVENT
BEGIN:VEVENT
DTSTART;TZID=Australia/Brisbane:20250302T110000
DTEND;TZID=Australia/Brisbane:20250302T140000
DTSTAMP:20260426T023847
CREATED:20250223T005502Z
LAST-MODIFIED:20250223T010356Z
UID:20020-1740913200-1740924000@ncwq.org.au
SUMMARY:Government House Picnic Sunday - 2 March 2025
DESCRIPTION:The first Picnic Sunday for 2025 will be held 11am – 2pm on Sunday 2 March. \nBring your friends and family and celebrate the wonderful women in your life in the lead up to International Women’s Day. \nVisitors can bring their own blanket\, basket\, food and drinks (no alcohol permitted)\, and find a shady spot in the beautifully manicured formal gardens surrounding Government House or under the majestic West Indian Cedar Tree which has shaded the lawns at the front of Fernberg for well over a century. \nEntry is free and no registration is required. All the details you need are below! \nKey Information: \n• The Fernberg Estate will be open for picnics within the grounds between 11am and 2pm. \n• Entry is free via Gate B at 168 Fernberg Road\, Paddington. \n• Visitors are required to bring everything they need for a picnic\, including hats\, sunscreen\, water bottles\, picnic blankets and food. Refillable water fountain onsite. \n• Access to the Estate will be to designated areas only. \n• Street parking only (available on and near Fernberg Road). \n• Picnic days are wheelchair and pram accessible\, and staff can assist with drop-offs. \n• No Alcohol or pets permitted (with the exception of assistance dogs). \n• While there is no access to the House itself during Picnic Sundays\, the House is regularly open on other occasions for free guided tours. \n• Picnic Sundays are free to attend. \nEntry to the Estate and Gardens is dependent on compliance with current Government House Protocol and Queensland Government health guidelines.
URL:https://ncwq.org.au/event/government-house-picnic-sunday-2-march-2025/
LOCATION:Government House\, 168 Fernberg Road\, Paddington\, QLD\, 4064
CATEGORIES:Other
ATTACH;FMTTYPE=image/jpeg:https://ncwq.org.au/wp-content/uploads/Picnic-Sundays-at-Government-House-scaled.jpg
END:VEVENT
BEGIN:VEVENT
DTSTART;TZID=Australia/Brisbane:20250410T184500
DTEND;TZID=Australia/Brisbane:20250410T193000
DTSTAMP:20260426T023847
CREATED:20250124T074813Z
LAST-MODIFIED:20250218T131242Z
UID:19942-1744310700-1744313400@ncwq.org.au
SUMMARY:NCWQ Committee Meeting - 10 April 2025
DESCRIPTION:NCWQ Members and Affiliates are invited to join the presentation section of our bi-monthly virtual Committee Meeting. \nThis month\, hear from Kim Harrington\, the CEO of Girl Guides Queensland. \nThis event will be conducted via Zoom. \n 
URL:https://ncwq.org.au/event/ncwq-committee-meeting-10-april-2025/
END:VEVENT
BEGIN:VEVENT
DTSTART;TZID=Australia/Brisbane:20250510T173000
DTEND;TZID=Australia/Brisbane:20250510T193000
DTSTAMP:20260426T023847
CREATED:20250330T111252Z
LAST-MODIFIED:20250330T111252Z
UID:20080-1746898200-1746905400@ncwq.org.au
SUMMARY:NCWQ Members' Event - 10 May 2025
DESCRIPTION:Members and interested friends are invited to join the National Council of Women of Queensland’s May Members’ Event on Saturday 10 May\, in Brisbane\, at Knowhere Bar & Restaurant\, Spring Hill. \nAs well as catching up with NCWQ Members\, the evening will include a special focus on mentoring\, and a program developed for NCWQ Affiliate\, Soroptimist International Moreton North Inc (SIMNI). \nWe’ll have a bit of fun with some ‘speed networking’\, and gain insights on how to support other women. \nFor those who can’t make it\, we’d love you to support the bursary raffle\, with funds directed to supporting young women to continue their higher education. \nGreat food! Great company!
URL:https://ncwq.org.au/event/ncwq-members-event-10-may-2025/
LOCATION:Knowhere Brisbane\, 419 Upper Edward Street\, Brisbane\, Queensland\, 4000\, Australia
CATEGORIES:NCWQ
ATTACH;FMTTYPE=image/jpeg:https://ncwq.org.au/wp-content/uploads/Mates-Event-9-May.jpg
ORGANIZER;CN="NCWQ":MAILTO:info@ncwq.org.au
END:VEVENT
BEGIN:VEVENT
DTSTART;TZID=Australia/Brisbane:20250612T184500
DTEND;TZID=Australia/Brisbane:20250612T193000
DTSTAMP:20260426T023847
CREATED:20250601T091010Z
LAST-MODIFIED:20250601T092233Z
UID:20950-1749753900-1749756600@ncwq.org.au
SUMMARY:NCWQ Committee Meeting - 12 June 2025
DESCRIPTION:Our bimonthly zoom meeting on 12 June features an update from Affiliate Organisation\, the National Council of Jewish Women. \nJoin online from 6:45pm to hear insights into the organisation\, followed by our Bursary Update\, Advocacy Hub discussions and Conference Planning. \nZoom link: https://us02web.zoom.us/j/5771152710
URL:https://ncwq.org.au/event/ncwq-committee-meeting-12-june-2025/
CATEGORIES:Affiliate Partner,NCWQ
ORGANIZER;CN="NCWQ":MAILTO:info@ncwq.org.au
END:VEVENT
BEGIN:VEVENT
DTSTART;TZID=Australia/Brisbane:20250619T170000
DTEND;TZID=Australia/Brisbane:20250619T180000
DTSTAMP:20260426T023847
CREATED:20250330T114320Z
LAST-MODIFIED:20250601T084258Z
UID:20086-1750352400-1750356000@ncwq.org.au
SUMMARY:Governor's Reception - Celebrating NCWQ's 120th Anniversary
DESCRIPTION:To mark the 120th anniversary of the formation of the National Council of Women of Queensland\, the Governor of Queensland\, Her Excellency the Honourable Dr Jeannette Young AC PSM\, and Patron of NCWQ\, will host a Reception at Government House. \nCurrent and former members are invited to join this special occasion. \nTHIS IS AN INVITATION ONLY EVENT. Registrations are now closed. \n 
URL:https://ncwq.org.au/event/governors-reception-celebrating-ncwqs-120th-anniversary/
LOCATION:Government House\, 168 Fernberg Road\, Paddington\, QLD\, 4064
CATEGORIES:NCWQ
ATTACH;FMTTYPE=image/png:https://ncwq.org.au/wp-content/uploads/Xmas-event.png
ORGANIZER;CN="NCWQ":MAILTO:info@ncwq.org.au
END:VEVENT
BEGIN:VEVENT
DTSTART;TZID=Australia/Brisbane:20250719T143000
DTEND;TZID=Australia/Brisbane:20250719T170000
DTSTAMP:20260426T023847
CREATED:20250124T074931Z
LAST-MODIFIED:20250629T152541Z
UID:19946-1752935400-1752944400@ncwq.org.au
SUMMARY:NCWQ Bursary Presentation - 19 July
DESCRIPTION:Join the 2025 Bursary recipients at a special presentation at The Women’s College\, The University of Queensland. \nYou are invited to join the President and Committee of the National Council of Women Queensland\, and the NCWQ Bursary Sponsors at the presentation of bursaries to the 2025 NCWQ Bursary Recipients the presence of our Patron\, Her Excellency the Honourable Dr Jeannette Young AC PSM Governor of Queensland. \nCome along to show your support for this wonderful initiative for women of all ages who are endeavouring to better themselves to make a difference in society. \nFollowing the presentations\, meet and mingle with the bursary winners while enjoying a delicious Afternoon Tea. \nIf you’re unable to attend\, you can support by purchasing a ticket for a bursary recipient\, or making a donation to the ongoing bursary program using the ticket link.
URL:https://ncwq.org.au/event/ncwq-committee-meeting-12-june/
LOCATION:The Women’s College\, University of Queenland\, St Lucia
CATEGORIES:NCWQ
ATTACH;FMTTYPE=image/jpeg:https://ncwq.org.au/wp-content/uploads/Photo-20-7-2024-11-49-44 AM-scaled.jpg
ORGANIZER;CN="NCWQ":MAILTO:info@ncwq.org.au
END:VEVENT
BEGIN:VEVENT
DTSTART;TZID=Australia/Brisbane:20250814T184500
DTEND;TZID=Australia/Brisbane:20250814T193000
DTSTAMP:20260426T023847
CREATED:20250124T075703Z
LAST-MODIFIED:20250218T131710Z
UID:19953-1755197100-1755199800@ncwq.org.au
SUMMARY:NCWQ Committee Meeting - 14 August 2025
DESCRIPTION:NCWQ Members and Affiliates are invited to join our Committee for a special presentation by Cathy Hunt\, of WOW (Women of the World) Australia \nThis meeting is held via Zoom.
URL:https://ncwq.org.au/event/ncwq-committee-meeting-14-august-2025/
END:VEVENT
BEGIN:VEVENT
DTSTART;TZID=Australia/Brisbane:20251004T083000
DTEND;TZID=Australia/Brisbane:20251005T113000
DTSTAMP:20260426T023847
CREATED:20250601T053208Z
LAST-MODIFIED:20250902T094131Z
UID:20937-1759566600-1759663800@ncwq.org.au
SUMMARY:NCWQ Conference - 4 & 5 October\, 2025
DESCRIPTION:Join the National Council of Women of Queensland 2025 Conference and Celebration Dinner! \nHeld over two days (4 & 5 October 2025) at QUT Gardens Point Campus\, the conference will highlight and celebrate the Voices of Queensland Women\, with a focus on Legacy\, Leadership & Change. \nWith a mix of keynote speakers\, panel discussions and workshops\, as well as opportunities for NCWQ Affiliates to display at a limited number of conference stalls\, we remember the past and look to the future for Queensland women. \nAnd on the evening of Saturday 4 October\, join our Shining Bring for 120 Years Celebration Dinner at the Kitty Hawk Room\, Kedron-Wavell. Featuring special guests\, entertainment and jazz band. \nBOOK HERE  FOR THE CONFERENCE AND CELEBRATION DINNER \nTickets on sale until 24 September or until sold out. \nRead the program brochure here. \nA limited number of Concession Tickets are available for young women (students\, Bursary Recipients\, Girl Guides\, Girl’s Brigade\, Junior Quota etc) to attend the Conference. Apply by emailing president@ncwq.org.au \n 
URL:https://ncwq.org.au/event/ncwq-conference-4-5-october-2025-expression-of-interest/
LOCATION:QUT Gardens Point Campus\, Brisbane\, Queensland\, Australia
CATEGORIES:NCWQ
ATTACH;FMTTYPE=image/png:https://ncwq.org.au/wp-content/uploads/Clean-conference-tile.png
ORGANIZER;CN="NCWQ":MAILTO:info@ncwq.org.au
END:VEVENT
BEGIN:VEVENT
DTSTART;TZID=Australia/Brisbane:20251120T190000
DTEND;TZID=Australia/Brisbane:20251120T210000
DTSTAMP:20260426T023847
CREATED:20251020T105641Z
LAST-MODIFIED:20251020T105641Z
UID:21218-1763665200-1763672400@ncwq.org.au
SUMMARY:NCWQ Committee Planning Meeting - November 2025
DESCRIPTION:A Planning Meeting will be held on Thursday 20 November via Zoom\, 7 pm. \nMembers are welcome to join the discussion. \nAdvocacy Hub members are encouraged to participate. \nSave the calendar appointment and join us using the following Zoom link: \nhttps://us02web.zoom.us/j/5771152710
URL:https://ncwq.org.au/event/ncwq-committee-planning-meeting-november-2025/
LOCATION:Via Zoom
CATEGORIES:NCWQ
ATTACH;FMTTYPE=image/png:https://ncwq.org.au/wp-content/uploads/NCWQ-logo_purple.png
ORGANIZER;CN="NCWQ":MAILTO:info@ncwq.org.au
END:VEVENT
BEGIN:VEVENT
DTSTART;TZID=Australia/Brisbane:20251211T180000
DTEND;TZID=Australia/Brisbane:20251211T180000
DTSTAMP:20260426T023847
CREATED:20251020T104929Z
LAST-MODIFIED:20260131T061615Z
UID:21212-1765476000-1765476000@ncwq.org.au
SUMMARY:NCWQ End of Year Social
DESCRIPTION:Come and meet the NCWQ Committee Members and share your thoughts on the year ahead! \nNew members are encouraged to attend to collect your NCWQ membership pin and learn more about the organisation. \nTicket price of $20 (+booking fee) includes a delicious selection of finger foods.\nDrinks are available to purchase at the bar. \nPlease book using the website link below.
URL:https://ncwq.org.au/event/ncwq-end-of-year-social/
LOCATION:Knowhere Brisbane\, 419 Upper Edward Street\, Brisbane\, Queensland\, 4000\, Australia
CATEGORIES:NCWQ
ATTACH;FMTTYPE=image/png:https://ncwq.org.au/wp-content/uploads/Xmas-event-1.png
ORGANIZER;CN="NCWQ":MAILTO:info@ncwq.org.au
END:VEVENT
BEGIN:VEVENT
DTSTART;TZID=Australia/Brisbane:20260212T190000
DTEND;TZID=Australia/Brisbane:20260212T193000
DTSTAMP:20260426T023847
CREATED:20260201T025902Z
LAST-MODIFIED:20260201T025902Z
UID:22933-1770922800-1770924600@ncwq.org.au
SUMMARY:NCWQ Bimonthly Virtual Meeting - February 2026
DESCRIPTION:Join us online from 7pm to 7:30pm to hear from Karen Marlow\, President of the Older Women’s Network Qld Inc (OWN)\, followed by an update on the NCWQ Advocacy Hub newly formed teams\, 2026 Bursary Program and what we have in mind for the half-day Conference. \nAll NCWQ Members and Members of Affiliate organisations are welcome to participate. \nNo cost. Online via Zoom link https://us02web.zoom.us/j/5771152710 \n 
URL:https://ncwq.org.au/event/ncwq-bimonthly-virtual-meeting-february-2026/
LOCATION:Via Zoom
CATEGORIES:NCWQ
ATTACH;FMTTYPE=image/png:https://ncwq.org.au/wp-content/uploads/NCWQ-Website-Featured-images-2-1.png
ORGANIZER;CN="NCWQ":MAILTO:info@ncwq.org.au
END:VEVENT
BEGIN:VEVENT
DTSTART;TZID=Australia/Brisbane:20260409T190000
DTEND;TZID=Australia/Brisbane:20260409T193000
DTSTAMP:20260426T023847
CREATED:20260201T031340Z
LAST-MODIFIED:20260201T031340Z
UID:22938-1775761200-1775763000@ncwq.org.au
SUMMARY:NCWQ Bi-Monthly Virtual Meeting - April 2026
DESCRIPTION:Online from 7pm until 7:30pm. \nJanelle Byrne will shine a light on the Queensland Women’s Historical Association\, Miegunyah House and The Red Dress Project. \nNCWQ Members and members of Affiliate organisations are welcome to attend. \nNo cost. Online via Zoom https://us02web.zoom.us/j/5771152710
URL:https://ncwq.org.au/event/ncwq-bi-monthly-virtual-meeting-april-2026/
LOCATION:Via Zoom
CATEGORIES:NCWQ
ATTACH;FMTTYPE=image/png:https://ncwq.org.au/wp-content/uploads/NCWQ-Website-Featured-images-3-1.png
ORGANIZER;CN="NCWQ":MAILTO:info@ncwq.org.au
END:VEVENT
BEGIN:VEVENT
DTSTART;TZID=Australia/Brisbane:20260417T100000
DTEND;TZID=Australia/Brisbane:20260417T120000
DTSTAMP:20260426T023847
CREATED:20260201T032457Z
LAST-MODIFIED:20260201T035716Z
UID:22943-1776420000-1776427200@ncwq.org.au
SUMMARY:Women's Financial Wellness Workshop - 17 April 2026
DESCRIPTION:Presented by NCWQ\, available in-person and online\, this workshop will provide practical information to manage your money. \nSpecial presentation by Melissa Meagher\, from Talking Money. 9:45am arrival for 10am start\, to Noon. \nCost: $50 in person (including morning tea)\, $25 via Zoom. \n 
URL:https://ncwq.org.au/event/womens-financial-wellness-workshop-17-april-2026/
LOCATION:Floor 26\, 260 Queen Street\, Brisbane City\, 260 Queen Street\, Brisbane\, Queensland\, 4000\, Australia
CATEGORIES:NCWQ
ATTACH;FMTTYPE=image/png:https://ncwq.org.au/wp-content/uploads/NCWQ-Website-Featured-images-4.png
ORGANIZER;CN="NCWQ":MAILTO:info@ncwq.org.au
END:VEVENT
BEGIN:VEVENT
DTSTART;TZID=Australia/Brisbane:20260611T190000
DTEND;TZID=Australia/Brisbane:20260611T193000
DTSTAMP:20260426T023847
CREATED:20260201T033738Z
LAST-MODIFIED:20260201T033738Z
UID:22950-1781204400-1781206200@ncwq.org.au
SUMMARY:NCWQ Bi-monthly Virtual Meeting - June 2026
DESCRIPTION:Women’s Network Australia’s Cheryl Gray provides an update on the state of women-owned businesses in Australia and opportunities for women ahead of the 2032 Brisbane Olympic and Paralympic Games. \nNCWQ Members along with members of Affiliate organisations are welcome to attend this online session. \nNo cost. Via Zoom https://us02web.zoom.us/j/5771152710
URL:https://ncwq.org.au/event/ncwq-bi-monthly-virtual-meeting-june-2026/
LOCATION:Via Zoom
ATTACH;FMTTYPE=image/png:https://ncwq.org.au/wp-content/uploads/NCWQ-Website-Featured-images-6-1.png
ORGANIZER;CN="NCWQ":MAILTO:info@ncwq.org.au
END:VEVENT
END:VCALENDAR