BEGIN:VCALENDAR
VERSION:2.0
PRODID:-//NCWQ Inc - ECPv6.15.20//NONSGML v1.0//EN
CALSCALE:GREGORIAN
METHOD:PUBLISH
X-ORIGINAL-URL:https://ncwq.org.au
X-WR-CALDESC:Events for NCWQ Inc
REFRESH-INTERVAL;VALUE=DURATION:PT1H
X-Robots-Tag:noindex
X-PUBLISHED-TTL:PT1H
BEGIN:VTIMEZONE
TZID:Australia/Brisbane
BEGIN:STANDARD
TZOFFSETFROM:+1000
TZOFFSETTO:+1000
TZNAME:AEST
DTSTART:20220101T000000
END:STANDARD
END:VTIMEZONE
BEGIN:VEVENT
DTSTART;TZID=Australia/Brisbane:20230916T100000
DTEND;TZID=Australia/Brisbane:20230916T143000
DTSTAMP:20260426T005708
CREATED:20230612T123958Z
LAST-MODIFIED:20230911T004715Z
UID:17498-1694858400-1694874600@ncwq.org.au
SUMMARY:2023 NCWQ BURSARY PRESENTATION
DESCRIPTION:The 15th Annual NCWQ Bursary Presentation will be held on 16 September 2023 at Women’s College\, The University of Queensland\, St Lucia \nYou are invited to join NCWQ\, our past and current bursary recipients\, supporters and sponsors along with our special guest\, the Queensland Minister for Health\, Mental Health and Ambulance Services and Minister for Women\, Shannon Fentiman MP\, as we recognise and congratulate our worthy bursary recipients. \nFull details are available here.
URL:https://ncwq.org.au/event/save-the-date/
LOCATION:The Women’s College\, University of Queensland\, College Road\, St Lucia\, Brisbane\, Queensland\, 4067
ATTACH;FMTTYPE=image/png:https://ncwq.org.au/wp-content/uploads/Copy-of-NCWQ-Website-Fetured-image-4.png
ORGANIZER;CN="NCWQ":MAILTO:info@ncwq.org.au
END:VEVENT
END:VCALENDAR