BEGIN:VCALENDAR
VERSION:2.0
PRODID:-//NCWQ Inc - ECPv6.15.20//NONSGML v1.0//EN
CALSCALE:GREGORIAN
METHOD:PUBLISH
X-WR-CALNAME:NCWQ Inc
X-ORIGINAL-URL:https://ncwq.org.au
X-WR-CALDESC:Events for NCWQ Inc
REFRESH-INTERVAL;VALUE=DURATION:PT1H
X-Robots-Tag:noindex
X-PUBLISHED-TTL:PT1H
BEGIN:VTIMEZONE
TZID:Australia/Brisbane
BEGIN:STANDARD
TZOFFSETFROM:+1000
TZOFFSETTO:+1000
TZNAME:AEST
DTSTART:20230101T000000
END:STANDARD
END:VTIMEZONE
BEGIN:VEVENT
DTSTART;TZID=Australia/Brisbane:20241212T180000
DTEND;TZID=Australia/Brisbane:20241212T193000
DTSTAMP:20260425T015910
CREATED:20231218T012224Z
LAST-MODIFIED:20240905T134531Z
UID:18064-1734026400-1734031800@ncwq.org.au
SUMMARY:NCWQ Christmas Breakup Party
DESCRIPTION:NCWQ Christmas Breakup Party for Members and Guests.\nFinger Food and Platters will be served. Drinks will be available for purchase from the Bar.\nRaffle tickets for sale on the night. Great Prizes!! Proceeds to support the NCWQ Bursaries.\nThe venue is within walking distance of the CBD\nParking is available on Astor Terrace or Wickham Terrace
URL:https://ncwq.org.au/event/ncwq-committee-meeting-virtual-6/
LOCATION:Knowhere Brisbane\, 419 Upper Edward Street\, Brisbane\, Queensland\, 4000\, Australia
ATTACH;FMTTYPE=image/png:https://ncwq.org.au/wp-content/uploads/Xmas.png
ORGANIZER;CN="NCWQ":MAILTO:info@ncwq.org.au
END:VEVENT
END:VCALENDAR