BEGIN:VCALENDAR
VERSION:2.0
PRODID:-//NCWQ Inc - ECPv6.15.20//NONSGML v1.0//EN
CALSCALE:GREGORIAN
METHOD:PUBLISH
X-WR-CALNAME:NCWQ Inc
X-ORIGINAL-URL:https://ncwq.org.au
X-WR-CALDESC:Events for NCWQ Inc
REFRESH-INTERVAL;VALUE=DURATION:PT1H
X-Robots-Tag:noindex
X-PUBLISHED-TTL:PT1H
BEGIN:VTIMEZONE
TZID:Australia/Brisbane
BEGIN:STANDARD
TZOFFSETFROM:+1000
TZOFFSETTO:+1000
TZNAME:AEST
DTSTART:20240101T000000
END:STANDARD
END:VTIMEZONE
BEGIN:VEVENT
DTSTART;TZID=Australia/Brisbane:20250619T170000
DTEND;TZID=Australia/Brisbane:20250619T180000
DTSTAMP:20260421T145243
CREATED:20250330T114320Z
LAST-MODIFIED:20250601T084258Z
UID:20086-1750352400-1750356000@ncwq.org.au
SUMMARY:Governor's Reception - Celebrating NCWQ's 120th Anniversary
DESCRIPTION:To mark the 120th anniversary of the formation of the National Council of Women of Queensland\, the Governor of Queensland\, Her Excellency the Honourable Dr Jeannette Young AC PSM\, and Patron of NCWQ\, will host a Reception at Government House. \nCurrent and former members are invited to join this special occasion. \nTHIS IS AN INVITATION ONLY EVENT. Registrations are now closed. \n 
URL:https://ncwq.org.au/event/governors-reception-celebrating-ncwqs-120th-anniversary/
LOCATION:Government House\, 168 Fernberg Road\, Paddington\, QLD\, 4064
CATEGORIES:NCWQ
ATTACH;FMTTYPE=image/png:https://ncwq.org.au/wp-content/uploads/Xmas-event.png
ORGANIZER;CN="NCWQ":MAILTO:info@ncwq.org.au
END:VEVENT
END:VCALENDAR