BEGIN:VCALENDAR
VERSION:2.0
PRODID:-//NCWQ Inc - ECPv6.15.20//NONSGML v1.0//EN
CALSCALE:GREGORIAN
METHOD:PUBLISH
X-WR-CALNAME:NCWQ Inc
X-ORIGINAL-URL:https://ncwq.org.au
X-WR-CALDESC:Events for NCWQ Inc
REFRESH-INTERVAL;VALUE=DURATION:PT1H
X-Robots-Tag:noindex
X-PUBLISHED-TTL:PT1H
BEGIN:VTIMEZONE
TZID:Australia/Brisbane
BEGIN:STANDARD
TZOFFSETFROM:+1000
TZOFFSETTO:+1000
TZNAME:AEST
DTSTART:20230101T000000
END:STANDARD
END:VTIMEZONE
BEGIN:VEVENT
DTSTART;TZID=Australia/Brisbane:20240303T130000
DTEND;TZID=Australia/Brisbane:20240303T153000
DTSTAMP:20260423T190633
CREATED:20240202T103733Z
LAST-MODIFIED:20240202T103733Z
UID:18360-1709470800-1709479800@ncwq.org.au
SUMMARY:SIMNI IWD Leader-HER-ship High Tea
DESCRIPTION:Soroptimist International Moreton North Inc are hosting High Tea at North Lakes Hotel on 3 March 2024  to celebrate International Women’s Day. \nThe “Empowering women’s leader-HER-ship” event includes guest speaker Kylian Kenni\, project leader and inspirational connector for the Murik Lakes Above Ground Garden Project\, in PNG. \n 
URL:https://ncwq.org.au/event/simni-iwd-leader-her-ship-high-tea/
LOCATION:North Lakes Hotel\, Australia
CATEGORIES:Affiliate Partner
ATTACH;FMTTYPE=image/png:https://ncwq.org.au/wp-content/uploads/NCWQ-Website-Featured-images-6.png
ORGANIZER;CN="Soroptimist International Moreton North Inc. (SIMNI)":MAILTO:simoretonnorth@siswp.org
END:VEVENT
END:VCALENDAR