BEGIN:VCALENDAR
VERSION:2.0
PRODID:-//NCWQ Inc - ECPv6.15.20//NONSGML v1.0//EN
CALSCALE:GREGORIAN
METHOD:PUBLISH
X-ORIGINAL-URL:https://ncwq.org.au
X-WR-CALDESC:Events for NCWQ Inc
REFRESH-INTERVAL;VALUE=DURATION:PT1H
X-Robots-Tag:noindex
X-PUBLISHED-TTL:PT1H
BEGIN:VTIMEZONE
TZID:Australia/Brisbane
BEGIN:STANDARD
TZOFFSETFROM:+1000
TZOFFSETTO:+1000
TZNAME:AEST
DTSTART:20210101T000000
END:STANDARD
END:VTIMEZONE
BEGIN:VEVENT
DTSTART;TZID=Australia/Brisbane:20220831T180000
DTEND;TZID=Australia/Brisbane:20220831T200000
DTSTAMP:20260424T030303
CREATED:20220707T023507Z
LAST-MODIFIED:20220811T232811Z
UID:15631-1661968800-1661976000@ncwq.org.au
SUMMARY:Riding the Roller Coaster of Caregiving - 31 Aug 2022
DESCRIPTION:The Lions Clubs of Warner and Samford are holding a caregivers event 31 August 2022 in Brisbane\, Queensland. \n  \nAbout Riding the Roller Coaster of Caregiving\nA joint project of the Lions Clubs of Warner and Samford. \nThis free community event is designed to provide education\, support and empowerment for those in a caregiving role in our community. \nCaregivers can be an invaluable resource for individuals dealing with serious mental illnesses. By learning more about the illness it will be easier to provide the right kind of support and assistance. \nAs a carer\, it’s important to ensure your own physical\, social and emotional needs are met so you can cope better in times of extreme stress. This may be difficult at times and you may feel a range of emotions. \nThis event has been organised for information sharing between industry specialists and carers to provide a sense of hope\, to discuss how everyone can work together and connect with others from similar backgrounds\, furthermore\, to provide information on support networks that are available in the Moreton Bay Region. \nFurther support and self-care education will be distributed through the wellness packs to all attendees. \nSupper refreshments are provided free of charge. \nAmple parking on site. \n  \nDetails\nDate: Wed 31st Aug 2022\, 6:00 pm – 8:00 pm AEST \nVenue: South Pine Community Church Hall\, 12 Eatons Crossing Rd Eatons Hill 4037 \nTickets: FREE – get tickets here \n  \nRegister\nPlease register via the Humantix event page \n  \nMore Information\nPlease contact:\nKim 0478 29 6365\nAlice 0408 772103 \n  \n\n  \nSponsored by \nCouncillor Cath Tonks and Councillor Darren Grimwade.\n  \n  \n  \n  \n  \n 
URL:https://ncwq.org.au/event/riding-the-roller-coaster-of-caregiving-31-aug-2022/
LOCATION:South Pine Community Church Hall\, 12 Eatons Crossing Rd\, Eatons Hill\, QLD\, 4037\, Australia
CATEGORIES:Other
ATTACH;FMTTYPE=image/jpeg:https://ncwq.org.au/wp-content/uploads/lions-event-31-aug.jpg
END:VEVENT
END:VCALENDAR