BEGIN:VCALENDAR
VERSION:2.0
PRODID:-//NCWQ Inc - ECPv6.15.20//NONSGML v1.0//EN
CALSCALE:GREGORIAN
METHOD:PUBLISH
X-ORIGINAL-URL:https://ncwq.org.au
X-WR-CALDESC:Events for NCWQ Inc
REFRESH-INTERVAL;VALUE=DURATION:PT1H
X-Robots-Tag:noindex
X-PUBLISHED-TTL:PT1H
BEGIN:VTIMEZONE
TZID:Australia/Brisbane
BEGIN:STANDARD
TZOFFSETFROM:+1000
TZOFFSETTO:+1000
TZNAME:AEST
DTSTART:20210101T000000
END:STANDARD
END:VTIMEZONE
BEGIN:VEVENT
DTSTART;TZID=Australia/Brisbane:20220908T090000
DTEND;TZID=Australia/Brisbane:20220908T100000
DTSTAMP:20260424T074426
CREATED:20220830T235251Z
LAST-MODIFIED:20220831T000858Z
UID:15882-1662627600-1662631200@ncwq.org.au
SUMMARY:R U OK? Day Community Bushwalk
DESCRIPTION:NCWQ would like to share an open invitation from Government House to take part in a community R U OK? bushwalk around the Fernberg Estate on Thursday 8 September from 9am to 10am (with arrival from 8:45am).\n  \nAbout\nGovernment House invites you to take part in a community bushwalk around the Fernberg Estate on Thursday 8 September from 9am to 10am (with arrival from 8:45am). To be held on R U OK? Day\, this event is hosted by Government House in partnership with Health and Wellbeing Queensland. \nParticipation is free\, with walkers required to register their attendance through the Eventbrite page. Entry to the Estate is via Gate B\, with street parking available on Fernberg Road and surrounds. The pathway is approximately 1.1km in length and winds its way through the ten hectares of bushland occupying the Estate. \nParticipants should have a medium level of fitness\, as there are some hills and challenging surfaces\, including gravel pathways. Unfortunately\, this event is not wheelchair accessible. Participants are encouraged to wear comfortable walking clothes and sturdy shoes\, and to bring a hat\, sunscreen and a water bottle. \nUnfortunately pets (with the exception of assistance dogs) are not permitted. Health and Wellbeing Queensland will kindly provide walkers with fresh fruit and water. \nEntry to the Government House Estate is subject to all visitors following the protocols outlined on the Government House website. \n  \nDetails\nDate: Thursday 8 September 2022 \nTime: 9:00 am – 10:00 am AEST \nVenue: Government House\, 168 Fernberg Road\, Paddington\, QLD 4064 \n  \nTickets / Register\nFREE. Please register here. \n\n 
URL:https://ncwq.org.au/event/r-u-ok-day-community-bushwalk/
LOCATION:Government House\, 168 Fernberg Road\, Paddington\, QLD\, 4064
CATEGORIES:Other
ATTACH;FMTTYPE=image/jpeg:https://ncwq.org.au/wp-content/uploads/event-ruok-sept2022.jpg
END:VEVENT
END:VCALENDAR