BEGIN:VCALENDAR
VERSION:2.0
PRODID:-//NCWQ Inc - ECPv6.15.20//NONSGML v1.0//EN
CALSCALE:GREGORIAN
METHOD:PUBLISH
X-ORIGINAL-URL:https://ncwq.org.au
X-WR-CALDESC:Events for NCWQ Inc
REFRESH-INTERVAL;VALUE=DURATION:PT1H
X-Robots-Tag:noindex
X-PUBLISHED-TTL:PT1H
BEGIN:VTIMEZONE
TZID:Australia/Brisbane
BEGIN:STANDARD
TZOFFSETFROM:+1000
TZOFFSETTO:+1000
TZNAME:AEST
DTSTART:20230101T000000
END:STANDARD
END:VTIMEZONE
BEGIN:VEVENT
DTSTART;TZID=Australia/Brisbane:20240201T090000
DTEND;TZID=Australia/Brisbane:20240201T143000
DTSTAMP:20260423T172851
CREATED:20240108T063534Z
LAST-MODIFIED:20240108T063636Z
UID:18160-1706778000-1706797800@ncwq.org.au
SUMMARY:'Intentions' Business Development Day
DESCRIPTION:Women’s Network Australia invites NCWQ Members and Affiliated Organisations to a business development day on Thursday 1 February\, 2024. \nIt’s a day of planning\, preparation and intention-setting with multiple workshop sessions\, and guest speakers on topics that will help you clarify your vision for your business in 2024\, and update your branding and marketing materials. \nSession 1: Permission to Dream – create your 2024 Vision Board with author of Make Your Mark\, Jessica Ritchie \nSession 2: Smart Phone Photography – learn to take great images with your smart phone to capture the moments between photo shoots with photographer\, Debi Brett \nSession 3: Brand Your Templates – learn how to utilise those great images in pre-prepared Canva templates with WNA’s Social Media Manager\, Bec McCoan \nTickets include tea/coffee on arrival and a light lunch\, as well as some great take home materials\, opportunities to purchase books and other activities to help keep you on track and the chance to update your professional headshot.
URL:https://ncwq.org.au/event/intentions-business-development-day-2/
LOCATION:Performance Studios\, 3994 Pacific Highway\, Loganholme\, Qld\, Australia
CATEGORIES:Affiliate Partner
ATTACH;FMTTYPE=image/png:https://ncwq.org.au/wp-content/uploads/Humanitix.png
ORGANIZER;CN="Women's Network Australia":MAILTO:admin@womensnetwork.com.au
END:VEVENT
END:VCALENDAR