BEGIN:VCALENDAR
VERSION:2.0
PRODID:-//NCWQ Inc - ECPv6.15.20//NONSGML v1.0//EN
CALSCALE:GREGORIAN
METHOD:PUBLISH
X-ORIGINAL-URL:https://ncwq.org.au
X-WR-CALDESC:Events for NCWQ Inc
REFRESH-INTERVAL;VALUE=DURATION:PT1H
X-Robots-Tag:noindex
X-PUBLISHED-TTL:PT1H
BEGIN:VTIMEZONE
TZID:Australia/Brisbane
BEGIN:STANDARD
TZOFFSETFROM:+1000
TZOFFSETTO:+1000
TZNAME:AEST
DTSTART:20230101T000000
END:STANDARD
END:VTIMEZONE
BEGIN:VEVENT
DTSTART;TZID=Australia/Brisbane:20240808T184500
DTEND;TZID=Australia/Brisbane:20240808T193000
DTSTAMP:20260422T083537
CREATED:20231218T011232Z
LAST-MODIFIED:20240702T101135Z
UID:18049-1723142700-1723145400@ncwq.org.au
SUMMARY:NCWQ Committee Meeting (Virtual)
DESCRIPTION:NCWQ Committee Members\, along with Affiliates and Associate Members are invited to join this online meeting. \nThis meeting with be held via Zoom link. \nGuest Speaker is Lisa McArthur-Daly\, a past Bursary Recipient\, who has been involved in the development of the Queensland Women and Girls’ Health Strategy. \nLisa will share her insights into the strategy from 6:45pm.
URL:https://ncwq.org.au/event/ncwq-committee-meeting-virtual-4/
LOCATION:Via Zoom
CATEGORIES:NCWQ
ATTACH;FMTTYPE=image/png:https://ncwq.org.au/wp-content/uploads/Committee-meeting-1.png
ORGANIZER;CN="NCWQ":MAILTO:info@ncwq.org.au
END:VEVENT
END:VCALENDAR